BEGIN:VCALENDAR
VERSION:2.0
PRODID:-//Second Chance Aid - ECPv6.15.10//NONSGML v1.0//EN
CALSCALE:GREGORIAN
METHOD:PUBLISH
X-ORIGINAL-URL:https://secondchanceaid.org
X-WR-CALDESC:Events for Second Chance Aid
REFRESH-INTERVAL;VALUE=DURATION:PT1H
X-Robots-Tag:noindex
X-PUBLISHED-TTL:PT1H
BEGIN:VTIMEZONE
TZID:UTC
BEGIN:STANDARD
TZOFFSETFROM:+0000
TZOFFSETTO:+0000
TZNAME:UTC
DTSTART:20170101T000000
END:STANDARD
END:VTIMEZONE
BEGIN:VEVENT
DTSTART;TZID=UTC:20200214T200000
DTEND;TZID=UTC:20200215T200000
DTSTAMP:20260423T220711
CREATED:20200307T212705Z
LAST-MODIFIED:20200307T212705Z
UID:2313-1581710400-1581796800@secondchanceaid.org
SUMMARY:Dạ Vũ Valentine - Ước vọng từ con tim
DESCRIPTION:Another charity event by our organization\, all funds will be contributed to fulfill the last wish for children who are on the last stage of cancer. Entertainment will be provided for you by Thien Kim\, Bao Vy\, Andy Quach\, Manh Quan\, Dancing Queens\, and MC Lam Quynh Nhu. Please come join us for a good cause. \n 
URL:https://secondchanceaid.org/event/da-vu-valentine-uoc-vong-tu-con-tim/
LOCATION:E-Hall\, 1550 Beaver Ruin Rd\, Norcross\, GA 30093\, Norcross\, GA\, 30093\, United States
CATEGORIES:Charity,Event
ATTACH;FMTTYPE=image/jpeg:https://secondchanceaid.org/wp-content/uploads/2020/03/Poster.jpg
END:VEVENT
BEGIN:VEVENT
DTSTART;TZID=UTC:20191019T200000
DTEND;TZID=UTC:20191020T010000
DTSTAMP:20260423T220711
CREATED:20191012T161033Z
LAST-MODIFIED:20200307T212713Z
UID:2235-1571515200-1571533200@secondchanceaid.org
SUMMARY:Đại Nhạc Hội Kỳ V - Quê Hương Tôi
DESCRIPTION:  \nWe cordially invite you to join us at our annual fundraiser on Saturday October 19\, 2019 from 8pm to 1am located at EHall. We will have entertainment provided for you by Thien Kim\, Trinh Lam\, and local singers Tien Dung\, Bao Vy and the Dancing Queens. Special thanks to our sponsors and volunteers for making this happen. \nTotal proceeds will be used during our annual trip to Vietnam for teachers’ grants\, school supplies and grants for senior citizens support. We look forward to showcasing all our previous activities during the event and would love to see you there!
URL:https://secondchanceaid.org/event/dai-nhac-hoi-ky-v-que-huong-toi/
LOCATION:E-Hall\, 1550 Beaver Ruin Rd\, Norcross\, GA 30093\, Norcross\, GA\, 30093\, United States
CATEGORIES:Charity,Event
ATTACH;FMTTYPE=image/png:https://secondchanceaid.org/wp-content/uploads/2019/10/2019-QueHuongToi-Poster.png
END:VEVENT
BEGIN:VEVENT
DTSTART;TZID=UTC:20181005T170000
DTEND;TZID=UTC:20181008T000000
DTSTAMP:20260423T220711
CREATED:20180831T121634Z
LAST-MODIFIED:20180924T143140Z
UID:2108-1538758800-1538956800@secondchanceaid.org
SUMMARY:2018 - Atlanta International Night Market
DESCRIPTION:This year SCA is participating at the Atlanta International Night Market located in North Point Mall. We’re selling food at our booth to fundraise. All profits will be distributed to the 4 campaigns that we’re working on. \nPlease join us at 1000 North Point Circle\, Alpharetta\, Georgia 30022 \n\nOperating Hours:\n\nOct 5th – 6th: From 5pm to Midnight\nOct 7th: Noon to 9pm\n\nWe’re also looking for any volunteers who can help us prep\, setup\, sell\, etc… on those dates. Please contact us at info@secondchanceaid.org to provide your contact info and the date/time that you can help. \nThank you\, \nSCA Staff
URL:https://secondchanceaid.org/event/2018-atlanta-international-night-market/
LOCATION:Atlanta International Night Market\, 1000 North Point Circle\, Alpharetta\, 30022\, United States
CATEGORIES:Charity,Event,Family Fun
ATTACH;FMTTYPE=image/jpeg:https://secondchanceaid.org/wp-content/uploads/2018/08/39900641_1918859931748913_6805576371448840192_n.jpg
END:VEVENT
BEGIN:VEVENT
DTSTART;TZID=UTC:20180525T080000
DTEND;TZID=UTC:20180525T170000
DTSTAMP:20260423T220711
CREATED:20180527T132149Z
LAST-MODIFIED:20180527T132149Z
UID:1935-1527235200-1527267600@secondchanceaid.org
SUMMARY:Medical Mission Collaborations
DESCRIPTION:An informal information session in which SCA reports on all the various collaborations with different nonprofit organizations and programs. At this function\, SCA raised a total of $20\, 550 towards our annual fund.
URL:https://secondchanceaid.org/event/medical-mission-collaborations/
LOCATION:GA
CATEGORIES:Event
END:VEVENT
END:VCALENDAR