BEGIN:VCALENDAR
VERSION:2.0
PRODID:-//Second Chance Aid - ECPv6.15.10//NONSGML v1.0//EN
CALSCALE:GREGORIAN
METHOD:PUBLISH
X-ORIGINAL-URL:https://secondchanceaid.org
X-WR-CALDESC:Events for Second Chance Aid
REFRESH-INTERVAL;VALUE=DURATION:PT1H
X-Robots-Tag:noindex
X-PUBLISHED-TTL:PT1H
BEGIN:VTIMEZONE
TZID:UTC
BEGIN:STANDARD
TZOFFSETFROM:+0000
TZOFFSETTO:+0000
TZNAME:UTC
DTSTART:20170101T000000
END:STANDARD
END:VTIMEZONE
BEGIN:VEVENT
DTSTART;TZID=UTC:20181005T170000
DTEND;TZID=UTC:20181008T000000
DTSTAMP:20260424T021643
CREATED:20180831T121634Z
LAST-MODIFIED:20180924T143140Z
UID:2108-1538758800-1538956800@secondchanceaid.org
SUMMARY:2018 - Atlanta International Night Market
DESCRIPTION:This year SCA is participating at the Atlanta International Night Market located in North Point Mall. We’re selling food at our booth to fundraise. All profits will be distributed to the 4 campaigns that we’re working on. \nPlease join us at 1000 North Point Circle\, Alpharetta\, Georgia 30022 \n\nOperating Hours:\n\nOct 5th – 6th: From 5pm to Midnight\nOct 7th: Noon to 9pm\n\nWe’re also looking for any volunteers who can help us prep\, setup\, sell\, etc… on those dates. Please contact us at info@secondchanceaid.org to provide your contact info and the date/time that you can help. \nThank you\, \nSCA Staff
URL:https://secondchanceaid.org/event/2018-atlanta-international-night-market/
LOCATION:Atlanta International Night Market\, 1000 North Point Circle\, Alpharetta\, 30022\, United States
CATEGORIES:Charity,Event,Family Fun
ATTACH;FMTTYPE=image/jpeg:https://secondchanceaid.org/wp-content/uploads/2018/08/39900641_1918859931748913_6805576371448840192_n.jpg
END:VEVENT
END:VCALENDAR